BEGIN:VCALENDAR
VERSION:2.0
PRODID:-//Harlan County - ECPv6.15.20//NONSGML v1.0//EN
CALSCALE:GREGORIAN
METHOD:PUBLISH
X-ORIGINAL-URL:https://harlan.websites.mipscounties.com
X-WR-CALDESC:Events for Harlan County
REFRESH-INTERVAL;VALUE=DURATION:PT1H
X-Robots-Tag:noindex
X-PUBLISHED-TTL:PT1H
BEGIN:VTIMEZONE
TZID:America/Chicago
BEGIN:DAYLIGHT
TZOFFSETFROM:-0600
TZOFFSETTO:-0500
TZNAME:CDT
DTSTART:20270314T080000
END:DAYLIGHT
BEGIN:STANDARD
TZOFFSETFROM:-0500
TZOFFSETTO:-0600
TZNAME:CST
DTSTART:20271107T070000
END:STANDARD
BEGIN:DAYLIGHT
TZOFFSETFROM:-0600
TZOFFSETTO:-0500
TZNAME:CDT
DTSTART:20280312T080000
END:DAYLIGHT
BEGIN:STANDARD
TZOFFSETFROM:-0500
TZOFFSETTO:-0600
TZNAME:CST
DTSTART:20281105T070000
END:STANDARD
BEGIN:DAYLIGHT
TZOFFSETFROM:-0600
TZOFFSETTO:-0500
TZNAME:CDT
DTSTART:20290311T080000
END:DAYLIGHT
BEGIN:STANDARD
TZOFFSETFROM:-0500
TZOFFSETTO:-0600
TZNAME:CST
DTSTART:20291104T070000
END:STANDARD
END:VTIMEZONE
BEGIN:VEVENT
DTSTART;TZID=America/Chicago:20280404T093000
DTEND;TZID=America/Chicago:20280404T093000
DTSTAMP:20260424T175134
CREATED:20240524T141514Z
LAST-MODIFIED:20260313T190000Z
UID:10000408-1838453400-1838453400@harlan.websites.mipscounties.com
SUMMARY:County Board Meeting
DESCRIPTION:This is a county board meeting. An agenda can be found on the Board Meetings page.
URL:https://harlan.websites.mipscounties.com/event/county-board-meeting/2028-04-04/
LOCATION:Harlan County Courthouse\, 706 W 2nd Street\, Alma\, NE\, 68920\, United States
CATEGORIES:County Board Meeting
END:VEVENT
BEGIN:VEVENT
DTSTART;TZID=America/Chicago:20280418T093000
DTEND;TZID=America/Chicago:20280418T093000
DTSTAMP:20260424T175134
CREATED:20260313T190027Z
LAST-MODIFIED:20260313T190027Z
UID:10000530-1839663000-1839663000@harlan.websites.mipscounties.com
SUMMARY:County Board Meeting
DESCRIPTION:This is a county board meeting. An agenda can be found on the Board Meetings page.
URL:https://harlan.websites.mipscounties.com/event/county-board-meeting-2/2028-04-18/
LOCATION:Harlan County Courthouse\, 706 W 2nd Street\, Alma\, NE\, 68920\, United States
CATEGORIES:County Board Meeting
END:VEVENT
BEGIN:VEVENT
DTSTART;VALUE=DATE:20280428
DTEND;VALUE=DATE:20280429
DTSTAMP:20260424T175134
CREATED:20260302T204049Z
LAST-MODIFIED:20260302T204049Z
UID:10000374-1840492800-1840579199@harlan.websites.mipscounties.com
SUMMARY:Arbor Day - Closed
DESCRIPTION:All Offices Closed.
URL:https://harlan.websites.mipscounties.com/event/arbor-day-closed/2028-04-28/
LOCATION:NE
CATEGORIES:Holiday
END:VEVENT
END:VCALENDAR