BEGIN:VCALENDAR
VERSION:2.0
PRODID:-//Harlan County - ECPv6.15.20//NONSGML v1.0//EN
CALSCALE:GREGORIAN
METHOD:PUBLISH
X-WR-CALNAME:Harlan County
X-ORIGINAL-URL:https://harlan.websites.mipscounties.com
X-WR-CALDESC:Events for Harlan County
REFRESH-INTERVAL;VALUE=DURATION:PT1H
X-Robots-Tag:noindex
X-PUBLISHED-TTL:PT1H
BEGIN:VTIMEZONE
TZID:America/Chicago
BEGIN:DAYLIGHT
TZOFFSETFROM:-0600
TZOFFSETTO:-0500
TZNAME:CDT
DTSTART:20270314T080000
END:DAYLIGHT
BEGIN:STANDARD
TZOFFSETFROM:-0500
TZOFFSETTO:-0600
TZNAME:CST
DTSTART:20271107T070000
END:STANDARD
BEGIN:DAYLIGHT
TZOFFSETFROM:-0600
TZOFFSETTO:-0500
TZNAME:CDT
DTSTART:20280312T080000
END:DAYLIGHT
BEGIN:STANDARD
TZOFFSETFROM:-0500
TZOFFSETTO:-0600
TZNAME:CST
DTSTART:20281105T070000
END:STANDARD
BEGIN:DAYLIGHT
TZOFFSETFROM:-0600
TZOFFSETTO:-0500
TZNAME:CDT
DTSTART:20290311T080000
END:DAYLIGHT
BEGIN:STANDARD
TZOFFSETFROM:-0500
TZOFFSETTO:-0600
TZNAME:CST
DTSTART:20291104T070000
END:STANDARD
END:VTIMEZONE
BEGIN:VEVENT
DTSTART;VALUE=DATE:20280101
DTEND;VALUE=DATE:20280102
DTSTAMP:20260424T120015
CREATED:20240730T161545Z
LAST-MODIFIED:20260302T204141Z
UID:10000309-1830297600-1830383999@harlan.websites.mipscounties.com
SUMMARY:New Year's Day - Closed
DESCRIPTION:All Offices Closed
URL:https://harlan.websites.mipscounties.com/event/new-years-day/2028-01-01/
LOCATION:NE
CATEGORIES:Holiday
END:VEVENT
BEGIN:VEVENT
DTSTART;TZID=America/Chicago:20280104T093000
DTEND;TZID=America/Chicago:20280104T093000
DTSTAMP:20260424T120015
CREATED:20240524T141514Z
LAST-MODIFIED:20260313T190000Z
UID:10000405-1830591000-1830591000@harlan.websites.mipscounties.com
SUMMARY:County Board Meeting
DESCRIPTION:This is a county board meeting. An agenda can be found on the Board Meetings page.
URL:https://harlan.websites.mipscounties.com/event/county-board-meeting/2028-01-04/
LOCATION:Harlan County Courthouse\, 706 W 2nd Street\, Alma\, NE\, 68920\, United States
CATEGORIES:County Board Meeting
END:VEVENT
BEGIN:VEVENT
DTSTART;TZID=America/Chicago:20280118T093000
DTEND;TZID=America/Chicago:20280118T093000
DTSTAMP:20260424T120015
CREATED:20260313T190027Z
LAST-MODIFIED:20260313T190027Z
UID:10000527-1831800600-1831800600@harlan.websites.mipscounties.com
SUMMARY:County Board Meeting
DESCRIPTION:This is a county board meeting. An agenda can be found on the Board Meetings page.
URL:https://harlan.websites.mipscounties.com/event/county-board-meeting-2/2028-01-18/
LOCATION:Harlan County Courthouse\, 706 W 2nd Street\, Alma\, NE\, 68920\, United States
CATEGORIES:County Board Meeting
END:VEVENT
BEGIN:VEVENT
DTSTART;VALUE=DATE:20280119
DTEND;VALUE=DATE:20280120
DTSTAMP:20260424T120015
CREATED:20240730T161350Z
LAST-MODIFIED:20260302T204120Z
UID:10000379-1831852800-1831939199@harlan.websites.mipscounties.com
SUMMARY:Martin Luther King Jr. Day - Closed
DESCRIPTION:All Offices Closed.
URL:https://harlan.websites.mipscounties.com/event/martin-luther-king-jr-day/2028-01-19/
LOCATION:NE
CATEGORIES:Holiday
END:VEVENT
END:VCALENDAR